BEGIN:VCALENDAR
VERSION:2.0
PRODID:-//BGE Berry Touraine - ECPv6.15.20//NONSGML v1.0//EN
CALSCALE:GREGORIAN
METHOD:PUBLISH
X-WR-CALNAME:BGE Berry Touraine
X-ORIGINAL-URL:https://bge-berrytouraine.com
X-WR-CALDESC:Évènements pour BGE Berry Touraine
REFRESH-INTERVAL;VALUE=DURATION:PT1H
X-Robots-Tag:noindex
X-PUBLISHED-TTL:PT1H
BEGIN:VTIMEZONE
TZID:Europe/Paris
BEGIN:DAYLIGHT
TZOFFSETFROM:+0100
TZOFFSETTO:+0200
TZNAME:CEST
DTSTART:20250330T010000
END:DAYLIGHT
BEGIN:STANDARD
TZOFFSETFROM:+0200
TZOFFSETTO:+0100
TZNAME:CET
DTSTART:20251026T010000
END:STANDARD
BEGIN:DAYLIGHT
TZOFFSETFROM:+0100
TZOFFSETTO:+0200
TZNAME:CEST
DTSTART:20260329T010000
END:DAYLIGHT
BEGIN:STANDARD
TZOFFSETFROM:+0200
TZOFFSETTO:+0100
TZNAME:CET
DTSTART:20261025T010000
END:STANDARD
BEGIN:DAYLIGHT
TZOFFSETFROM:+0100
TZOFFSETTO:+0200
TZNAME:CEST
DTSTART:20270328T010000
END:DAYLIGHT
BEGIN:STANDARD
TZOFFSETFROM:+0200
TZOFFSETTO:+0100
TZNAME:CET
DTSTART:20271031T010000
END:STANDARD
END:VTIMEZONE
BEGIN:VEVENT
DTSTART;TZID=Europe/Paris:20260615T163000
DTEND;TZID=Europe/Paris:20260615T171500
DTSTAMP:20260420T092309
CREATED:20260225T145252Z
LAST-MODIFIED:20260225T145252Z
UID:27644-1781541000-1781543700@bge-berrytouraine.com
SUMMARY:Présentation de la communauté des "Audacieuses"
DESCRIPTION:Le programme « Elles entreprennent avec BGE Berrytouraine » rassemble plusieurs actions dont le groupe solidaire des Audacieuses. \nIl rassemble des porteuses de projet et des cheffes d’entreprise dans nos 3 départements. L’objectif est d’apprendre le réseau\, partager des conseils et de la mise en relation ainsi que d’échanger sur l’entrepreneuriat par les femmes. \nInscription https://forms.gle/oHJmUXGvPayfWHpf8
URL:https://bge-berrytouraine.com/event/presentation-de-la-communaute-des-audacieuses/
LOCATION:Visio
END:VEVENT
END:VCALENDAR