BEGIN:VCALENDAR
VERSION:2.0
PRODID:-//BGE Berry Touraine - ECPv6.15.20//NONSGML v1.0//EN
CALSCALE:GREGORIAN
METHOD:PUBLISH
X-WR-CALNAME:BGE Berry Touraine
X-ORIGINAL-URL:https://bge-berrytouraine.com
X-WR-CALDESC:Évènements pour BGE Berry Touraine
REFRESH-INTERVAL;VALUE=DURATION:PT1H
X-Robots-Tag:noindex
X-PUBLISHED-TTL:PT1H
BEGIN:VTIMEZONE
TZID:Europe/Paris
BEGIN:DAYLIGHT
TZOFFSETFROM:+0100
TZOFFSETTO:+0200
TZNAME:CEST
DTSTART:20250330T010000
END:DAYLIGHT
BEGIN:STANDARD
TZOFFSETFROM:+0200
TZOFFSETTO:+0100
TZNAME:CET
DTSTART:20251026T010000
END:STANDARD
BEGIN:DAYLIGHT
TZOFFSETFROM:+0100
TZOFFSETTO:+0200
TZNAME:CEST
DTSTART:20260329T010000
END:DAYLIGHT
BEGIN:STANDARD
TZOFFSETFROM:+0200
TZOFFSETTO:+0100
TZNAME:CET
DTSTART:20261025T010000
END:STANDARD
BEGIN:DAYLIGHT
TZOFFSETFROM:+0100
TZOFFSETTO:+0200
TZNAME:CEST
DTSTART:20270328T010000
END:DAYLIGHT
BEGIN:STANDARD
TZOFFSETFROM:+0200
TZOFFSETTO:+0100
TZNAME:CET
DTSTART:20271031T010000
END:STANDARD
END:VTIMEZONE
BEGIN:VEVENT
DTSTART;TZID=Europe/Paris:20260310T093000
DTEND;TZID=Europe/Paris:20260310T123000
DTSTAMP:20260421T135540
CREATED:20260227T163759Z
LAST-MODIFIED:20260227T163759Z
UID:27704-1773135000-1773145800@bge-berrytouraine.com
SUMMARY:Réunion d'information collective sur la création d'entreprise
DESCRIPTION:BGE Berry-Touraine et CitésLab Châteauroux vous proposent une information collective à propos de nos services visant à vous accompagner et vous appuyer dans votre projet de création d’entreprise. \nPour cette Info\, c’est M. Karim TOUAJ\, Chef de projet CitésLab qui animera cet événement et répondra à l’ensemble de vos questions.\nRendez vous le Mardi 10 mars 2026 de 09h30 à 12h30 en visio. Un lien de connexion vous sera communiquer la veille de la visio.\nInscription : https://forms.gle/7b72o3k8k5BcEFhL8
URL:https://bge-berrytouraine.com/event/reunion-dinformation-collective-sur-la-creation-dentreprise/
LOCATION:Visio
END:VEVENT
END:VCALENDAR