BEGIN:VCALENDAR
VERSION:2.0
PRODID:-//BGE Berry Touraine - ECPv6.15.20//NONSGML v1.0//EN
CALSCALE:GREGORIAN
METHOD:PUBLISH
X-WR-CALNAME:BGE Berry Touraine
X-ORIGINAL-URL:https://bge-berrytouraine.com
X-WR-CALDESC:Évènements pour BGE Berry Touraine
REFRESH-INTERVAL;VALUE=DURATION:PT1H
X-Robots-Tag:noindex
X-PUBLISHED-TTL:PT1H
BEGIN:VTIMEZONE
TZID:Europe/Paris
BEGIN:DAYLIGHT
TZOFFSETFROM:+0100
TZOFFSETTO:+0200
TZNAME:CEST
DTSTART:20250330T010000
END:DAYLIGHT
BEGIN:STANDARD
TZOFFSETFROM:+0200
TZOFFSETTO:+0100
TZNAME:CET
DTSTART:20251026T010000
END:STANDARD
BEGIN:DAYLIGHT
TZOFFSETFROM:+0100
TZOFFSETTO:+0200
TZNAME:CEST
DTSTART:20260329T010000
END:DAYLIGHT
BEGIN:STANDARD
TZOFFSETFROM:+0200
TZOFFSETTO:+0100
TZNAME:CET
DTSTART:20261025T010000
END:STANDARD
BEGIN:DAYLIGHT
TZOFFSETFROM:+0100
TZOFFSETTO:+0200
TZNAME:CEST
DTSTART:20270328T010000
END:DAYLIGHT
BEGIN:STANDARD
TZOFFSETFROM:+0200
TZOFFSETTO:+0100
TZNAME:CET
DTSTART:20271031T010000
END:STANDARD
END:VTIMEZONE
BEGIN:VEVENT
DTSTART;TZID=Europe/Paris:20260618T090000
DTEND;TZID=Europe/Paris:20260618T170000
DTSTAMP:20260420T092149
CREATED:20260407T102156Z
LAST-MODIFIED:20260407T102156Z
UID:28355-1781773200-1781802000@bge-berrytouraine.com
SUMMARY:Bootcamp "Pimper son esprit commercial"
DESCRIPTION:1 journée pour passer à l’action \nVous êtes entrepreneur ou porteur de projet* et vous faites face à un blocage qui freine votre activité ? Ça peut arriver\, et nous avons une solution pour vous aider à franchir vos obstacles \nLe Boot Camp est une journée immersive conçue pour vous aider à prendre du recul\, répondre à vos problématiques et surtout agir. \nDans un format intensif et interactif\, vous rejoignez un groupe restreint d’une douzaine de participants pour travailler en profondeur sur vos problématiques réelles. Pas d’information descendante\, que du concret ! \nAccompagné par un animateur qui vous guide sur la journée\, vous co-construisez des solutions concrètes et adaptées à votre situation\, à l’aide d’un cahier d’exercices pensé pour passer rapidement à l’action. \nAu programme : \n\nRéseautage utileet intelligence collective\nRéflexion guidéeet remise en question constructive\nActions concrètespour avancer\nUne approche sur mesure\, engageante et collaborative\n\nChaque journée aborde une thématique clé de l’entrepreneuriat\, des sujets que vous nous faites souvent remonter et qui peuvent vous poser question : communication\, commercial ou pitch \n*Pour les porteurs de projet\, l’idée doit être à un stade avancé pour pouvoir participer \nInscription ➡️ https://forms.gle/yYBpVoVVMKfTEb568
URL:https://bge-berrytouraine.com/event/bootcamp-pimper-son-esprit-commercial-5/
LOCATION:2 bis rue descartes\, 36000 Chateauroux\, 2 bis rue descartes\, Chateauroux\, 36000\, France
END:VEVENT
BEGIN:VEVENT
DTSTART;TZID=Europe/Paris:20260618T133000
DTEND;TZID=Europe/Paris:20260618T163000
DTSTAMP:20260420T092149
CREATED:20260225T152247Z
LAST-MODIFIED:20260225T152247Z
UID:27672-1781789400-1781800200@bge-berrytouraine.com
SUMMARY:Comment gérer ma micro-entreprise ?
DESCRIPTION:BGE Berry Touraine te propose de tout savoir sur la micro-entreprise !! \nOn te parle souvent de la micro-entreprise comme si c’était simple et qu’il suffit juste de faire les démarches sur l’INPI. \nAttention\, il y a des choses à savoir et ce n’est peut-être pas adapté à tes choix ou ton business ! \nPendant cet atelier\, tu verras : \n\nCe qu’est une micro-entreprise\nLa différence avec les autres statuts et régimes\nLes obligations de ce régime\nComprendre les charges fiscales et sociales\nTout savoir sur la TVA et l’exonération de TVA\nDes cas pratiques\nLes changements à venir\n\nInscription sur le lien suivant : https://forms.gle/c4UDG57LFt4UX6MK8  \nATELIER réservé aux micro-entrepreneurs.
URL:https://bge-berrytouraine.com/event/comment-gerer-ma-micro-entreprise-3/
LOCATION:Visio
END:VEVENT
BEGIN:VEVENT
DTSTART;TZID=Europe/Paris:20260623T090000
DTEND;TZID=Europe/Paris:20260623T170000
DTSTAMP:20260420T092149
CREATED:20260407T114734Z
LAST-MODIFIED:20260407T114734Z
UID:28375-1782205200-1782234000@bge-berrytouraine.com
SUMMARY:Bootcamp "Pitcher comme jamais"
DESCRIPTION:1 journée pour passer à l’action \nVous êtes entrepreneur ou porteur de projet* et vous faites face à un blocage qui freine votre activité ? Ça peut arriver\, et nous avons une solution pour vous aider à franchir vos obstacles \nLe Boot Camp est une journée immersive conçue pour vous aider à prendre du recul\, répondre à vos problématiques et surtout agir. \nDans un format intensif et interactif\, vous rejoignez un groupe restreint d’une douzaine de participants pour travailler en profondeur sur vos problématiques réelles. Pas d’information descendante\, que du concret ! \nAccompagné par un animateur qui vous guide sur la journée\, vous co-construisez des solutions concrètes et adaptées à votre situation\, à l’aide d’un cahier d’exercices pensé pour passer rapidement à l’action. \nAu programme : \n\nRéseautage utileet intelligence collective\nRéflexion guidéeet remise en question constructive\nActions concrètespour avancer\nUne approche sur mesure\, engageante et collaborative\n\nChaque journée aborde une thématique clé de l’entrepreneuriat\, des sujets que vous nous faites souvent remonter et qui peuvent vous poser question : communication\, commercial ou pitch \n*Pour les porteurs de projet\, l’idée doit être à un stade avancé pour pouvoir participer \nInscription ➡️ https://forms.gle/yYBpVoVVMKfTEb568
URL:https://bge-berrytouraine.com/event/bootcamp-pitcher-comme-jamais-2/
LOCATION:2 bis rue descartes\, 36000 Chateauroux\, 2 bis rue descartes\, Chateauroux\, 36000\, France
END:VEVENT
BEGIN:VEVENT
DTSTART;TZID=Europe/Paris:20260624T090000
DTEND;TZID=Europe/Paris:20260624T170000
DTSTAMP:20260420T092149
CREATED:20260407T114426Z
LAST-MODIFIED:20260407T114426Z
UID:28367-1782291600-1782320400@bge-berrytouraine.com
SUMMARY:Bootcamp "Communiquer pour mieux régner"
DESCRIPTION:1 journée pour passer à l’action \nVous êtes entrepreneur ou porteur de projet* et vous faites face à un blocage qui freine votre activité ? Ça peut arriver\, et nous avons une solution pour vous aider à franchir vos obstacles \nLe Boot Camp est une journée immersive conçue pour vous aider à prendre du recul\, répondre à vos problématiques et surtout agir. \nDans un format intensif et interactif\, vous rejoignez un groupe restreint d’une douzaine de participants pour travailler en profondeur sur vos problématiques réelles. Pas d’information descendante\, que du concret ! \nAccompagné par un animateur qui vous guide sur la journée\, vous co-construisez des solutions concrètes et adaptées à votre situation\, à l’aide d’un cahier d’exercices pensé pour passer rapidement à l’action. \nAu programme : \n\nRéseautage utileet intelligence collective\nRéflexion guidéeet remise en question constructive\nActions concrètespour avancer\nUne approche sur mesure\, engageante et collaborative\n\nChaque journée aborde une thématique clé de l’entrepreneuriat\, des sujets que vous nous faites souvent remonter et qui peuvent vous poser question : communication\, commercial ou pitch \n*Pour les porteurs de projet\, l’idée doit être à un stade avancé pour pouvoir participer \nInscription ➡️ https://forms.gle/yYBpVoVVMKfTEb568
URL:https://bge-berrytouraine.com/event/bootcamp-communiquer-pour-mieux-regner-3/
LOCATION:70 avenue de la libération\, 18000 Bourges\, 70 avenue de la libération\, bourges\, 18000\, France
END:VEVENT
BEGIN:VEVENT
DTSTART;TZID=Europe/Paris:20260625T090000
DTEND;TZID=Europe/Paris:20260625T170000
DTSTAMP:20260420T092149
CREATED:20260407T102306Z
LAST-MODIFIED:20260407T102306Z
UID:28357-1782378000-1782406800@bge-berrytouraine.com
SUMMARY:Bootcamp "Pimper son esprit commercial"
DESCRIPTION:1 journée pour passer à l’action \nVous êtes entrepreneur ou porteur de projet* et vous faites face à un blocage qui freine votre activité ? Ça peut arriver\, et nous avons une solution pour vous aider à franchir vos obstacles \nLe Boot Camp est une journée immersive conçue pour vous aider à prendre du recul\, répondre à vos problématiques et surtout agir. \nDans un format intensif et interactif\, vous rejoignez un groupe restreint d’une douzaine de participants pour travailler en profondeur sur vos problématiques réelles. Pas d’information descendante\, que du concret ! \nAccompagné par un animateur qui vous guide sur la journée\, vous co-construisez des solutions concrètes et adaptées à votre situation\, à l’aide d’un cahier d’exercices pensé pour passer rapidement à l’action. \nAu programme : \n\nRéseautage utileet intelligence collective\nRéflexion guidéeet remise en question constructive\nActions concrètespour avancer\nUne approche sur mesure\, engageante et collaborative\n\nChaque journée aborde une thématique clé de l’entrepreneuriat\, des sujets que vous nous faites souvent remonter et qui peuvent vous poser question : communication\, commercial ou pitch \n*Pour les porteurs de projet\, l’idée doit être à un stade avancé pour pouvoir participer \nInscription ➡️ https://forms.gle/yYBpVoVVMKfTEb568
URL:https://bge-berrytouraine.com/event/bootcamp-pimper-son-esprit-commercial-6/
LOCATION:BGE Berry Touraine antenne Touraine\, ZA des Granges Galand\, 18 rue de la Tuilerie\, Saint Avertin\, 37550\, France
END:VEVENT
BEGIN:VEVENT
DTSTART;TZID=Europe/Paris:20260629T100000
DTEND;TZID=Europe/Paris:20260629T120000
DTSTAMP:20260420T092149
CREATED:20260324T103848Z
LAST-MODIFIED:20260324T103848Z
UID:28095-1782727200-1782734400@bge-berrytouraine.com
SUMMARY:Entrepreneuriat & retraite\, ce qu'il faut savoir
DESCRIPTION:La CARSAT CENTRE VAL de Loire te propose des visios d’informations sur la retraite des entrepreneurs. \nTu as ton entreprise\, mais sais-tu vraiment comment fonctionne tes cotisations à la retraite? \nDurant cet atelier\, nous parlerons : \n\nLa préparation au départ à la retraite\nLes conditions de départ\nLes aménagements de fin de carrière\nLe calcul du montant de la retraite\nLes démarches à effectuer\n\nPour cette première\, se donne rdv le : \n\nLundi 29 juin 10H00/12H00 – Visio\n\nLe lien de connexion te sera envoyé quelques jours avant la visio. \nInscription : https://forms.gle/8xCbrAdpgcrzyciK7 
URL:https://bge-berrytouraine.com/event/entrepreneuriat-retraite-ce-quil-faut-savoir/
LOCATION:Visio
END:VEVENT
BEGIN:VEVENT
DTSTART;TZID=Europe/Paris:20260702T090000
DTEND;TZID=Europe/Paris:20260702T170000
DTSTAMP:20260420T092149
CREATED:20260407T102351Z
LAST-MODIFIED:20260407T102351Z
UID:28359-1782982800-1783011600@bge-berrytouraine.com
SUMMARY:Bootcamp "Pimper son esprit commercial"
DESCRIPTION:1 journée pour passer à l’action \nVous êtes entrepreneur ou porteur de projet* et vous faites face à un blocage qui freine votre activité ? Ça peut arriver\, et nous avons une solution pour vous aider à franchir vos obstacles \nLe Boot Camp est une journée immersive conçue pour vous aider à prendre du recul\, répondre à vos problématiques et surtout agir. \nDans un format intensif et interactif\, vous rejoignez un groupe restreint d’une douzaine de participants pour travailler en profondeur sur vos problématiques réelles. Pas d’information descendante\, que du concret ! \nAccompagné par un animateur qui vous guide sur la journée\, vous co-construisez des solutions concrètes et adaptées à votre situation\, à l’aide d’un cahier d’exercices pensé pour passer rapidement à l’action. \nAu programme : \n\nRéseautage utileet intelligence collective\nRéflexion guidéeet remise en question constructive\nActions concrètespour avancer\nUne approche sur mesure\, engageante et collaborative\n\nChaque journée aborde une thématique clé de l’entrepreneuriat\, des sujets que vous nous faites souvent remonter et qui peuvent vous poser question : communication\, commercial ou pitch \n*Pour les porteurs de projet\, l’idée doit être à un stade avancé pour pouvoir participer \nInscription ➡️ https://forms.gle/yYBpVoVVMKfTEb568
URL:https://bge-berrytouraine.com/event/bootcamp-pimper-son-esprit-commercial-7/
LOCATION:2 bis rue descartes\, 36000 Chateauroux\, 2 bis rue descartes\, Chateauroux\, 36000\, France
END:VEVENT
BEGIN:VEVENT
DTSTART;TZID=Europe/Paris:20260702T090000
DTEND;TZID=Europe/Paris:20260702T170000
DTSTAMP:20260420T092149
CREATED:20260407T114636Z
LAST-MODIFIED:20260407T114636Z
UID:28373-1782982800-1783011600@bge-berrytouraine.com
SUMMARY:Bootcamp "Pitcher comme jamais"
DESCRIPTION:1 journée pour passer à l’action \nVous êtes entrepreneur ou porteur de projet* et vous faites face à un blocage qui freine votre activité ? Ça peut arriver\, et nous avons une solution pour vous aider à franchir vos obstacles \nLe Boot Camp est une journée immersive conçue pour vous aider à prendre du recul\, répondre à vos problématiques et surtout agir. \nDans un format intensif et interactif\, vous rejoignez un groupe restreint d’une douzaine de participants pour travailler en profondeur sur vos problématiques réelles. Pas d’information descendante\, que du concret ! \nAccompagné par un animateur qui vous guide sur la journée\, vous co-construisez des solutions concrètes et adaptées à votre situation\, à l’aide d’un cahier d’exercices pensé pour passer rapidement à l’action. \nAu programme : \n\nRéseautage utileet intelligence collective\nRéflexion guidéeet remise en question constructive\nActions concrètespour avancer\nUne approche sur mesure\, engageante et collaborative\n\nChaque journée aborde une thématique clé de l’entrepreneuriat\, des sujets que vous nous faites souvent remonter et qui peuvent vous poser question : communication\, commercial ou pitch \n*Pour les porteurs de projet\, l’idée doit être à un stade avancé pour pouvoir participer \nInscription ➡️ https://forms.gle/yYBpVoVVMKfTEb568
URL:https://bge-berrytouraine.com/event/bootcamp-pitcher-comme-jamais/
LOCATION:70 avenue de la libération\, 18000 Bourges\, 70 avenue de la libération\, bourges\, 18000\, France
END:VEVENT
BEGIN:VEVENT
DTSTART;TZID=Europe/Paris:20260706T140000
DTEND;TZID=Europe/Paris:20260706T160000
DTSTAMP:20260420T092149
CREATED:20260324T102455Z
LAST-MODIFIED:20260324T102455Z
UID:28087-1783346400-1783353600@bge-berrytouraine.com
SUMMARY:Tout savoir sur la facturation électronique
DESCRIPTION:La direction départementale des finances publiques vous propose des ateliers en visio et présentiel sur la facturation électronique. \nDès 2026 et jusqu’en 2027\, toutes les entreprises seront obligées de mettre en place la facturation électronique. \nAu programme : \n\n– Les obligations pour les entreprises\n– En quoi ça consiste concrètement\n– Le calendrier en fonction de votre statut juridique\n\nRendez-vous à notre prochaine date : \n\n6 juillet 14H00/16H00 en visio\n\nLe lien de connexion vous sera envoyé quelques jours avant la visio \nInscription : https://docs.google.com/forms/d/e/1FAIpQLScBHDtPUBfyW0aSQ30Qb-keaZvw1ceJ3kJllJEJmwCphz1Jig/viewform 
URL:https://bge-berrytouraine.com/event/tout-savoir-sur-la-facturation-electronique-4/
LOCATION:Visio
END:VEVENT
BEGIN:VEVENT
DTSTART;TZID=Europe/Paris:20260709T090000
DTEND;TZID=Europe/Paris:20260709T170000
DTSTAMP:20260420T092149
CREATED:20251223T125717Z
LAST-MODIFIED:20260407T100235Z
UID:26142-1783587600-1783616400@bge-berrytouraine.com
SUMMARY:Boot camp
DESCRIPTION:1 journée pour passer à l’action\nVous êtes entrepreneur ou porteur de projet* et vous faites face à un blocage qui freine votre activité ? Ça peut arriver\, et nous avons une solution pour vous aider à franchir vos obstacles \nLe Boot Camp est une journée immersive conçue pour vous aider à prendre du recul\, répondre à vos problématiques et surtout agir. \nDans un format intensif et interactif\, vous rejoignez un groupe restreint d’une douzaine de participants pour travailler en profondeur sur vos problématiques réelles. Pas d’information descendante\, que du concret ! \nAccompagné par un animateur qui vous guide sur la journée\, vous co-construisez des solutions concrètes et adaptées à votre situation\, à l’aide d’un cahier d’exercices pensé pour passer rapidement à l’action. \nAu programme : \n\nRéseautage utile et intelligence collective\nRéflexion guidée et remise en question constructive\nActions concrètes pour avancer\nUne approche sur mesure\, engageante et collaborative\n\nChaque journée aborde une thématique clé de l’entrepreneuriat\, des sujets que vous nous faites souvent remonter et qui peuvent vous poser question : communication\, commercial ou pitch  \n*Pour les porteurs de projet\, l’idée doit être à un stade avancé pour pouvoir participer \n					\n									Inscrivez-vous
URL:https://bge-berrytouraine.com/event/boot-camp-5/
LOCATION:Pôle tertiaire libération\, 70 avenue de la Libération\, Bourges\, 18000\, France
ATTACH;FMTTYPE=image/png:https://bge-berrytouraine.com/wp-content/uploads/2023/08/cropped-logo-bge-berrytouraine.png
END:VEVENT
BEGIN:VEVENT
DTSTART;TZID=Europe/Paris:20260716T090000
DTEND;TZID=Europe/Paris:20260716T170000
DTSTAMP:20260420T092149
CREATED:20260407T114512Z
LAST-MODIFIED:20260407T114512Z
UID:28369-1784192400-1784221200@bge-berrytouraine.com
SUMMARY:Bootcamp "Communiquer pour mieux régner"
DESCRIPTION:1 journée pour passer à l’action \nVous êtes entrepreneur ou porteur de projet* et vous faites face à un blocage qui freine votre activité ? Ça peut arriver\, et nous avons une solution pour vous aider à franchir vos obstacles \nLe Boot Camp est une journée immersive conçue pour vous aider à prendre du recul\, répondre à vos problématiques et surtout agir. \nDans un format intensif et interactif\, vous rejoignez un groupe restreint d’une douzaine de participants pour travailler en profondeur sur vos problématiques réelles. Pas d’information descendante\, que du concret ! \nAccompagné par un animateur qui vous guide sur la journée\, vous co-construisez des solutions concrètes et adaptées à votre situation\, à l’aide d’un cahier d’exercices pensé pour passer rapidement à l’action. \nAu programme : \n\nRéseautage utileet intelligence collective\nRéflexion guidéeet remise en question constructive\nActions concrètespour avancer\nUne approche sur mesure\, engageante et collaborative\n\nChaque journée aborde une thématique clé de l’entrepreneuriat\, des sujets que vous nous faites souvent remonter et qui peuvent vous poser question : communication\, commercial ou pitch \n*Pour les porteurs de projet\, l’idée doit être à un stade avancé pour pouvoir participer \nInscription ➡️ https://forms.gle/yYBpVoVVMKfTEb568
URL:https://bge-berrytouraine.com/event/bootcamp-communiquer-pour-mieux-regner-4/
LOCATION:2 bis rue descartes\, 36000 Chateauroux\, 2 bis rue descartes\, Chateauroux\, 36000\, France
END:VEVENT
BEGIN:VEVENT
DTSTART;TZID=Europe/Paris:20260721T090000
DTEND;TZID=Europe/Paris:20260721T170000
DTSTAMP:20260420T092149
CREATED:20260407T102438Z
LAST-MODIFIED:20260407T102438Z
UID:28361-1784624400-1784653200@bge-berrytouraine.com
SUMMARY:Bootcamp "Pimper son esprit commercial"
DESCRIPTION:1 journée pour passer à l’action \nVous êtes entrepreneur ou porteur de projet* et vous faites face à un blocage qui freine votre activité ? Ça peut arriver\, et nous avons une solution pour vous aider à franchir vos obstacles \nLe Boot Camp est une journée immersive conçue pour vous aider à prendre du recul\, répondre à vos problématiques et surtout agir. \nDans un format intensif et interactif\, vous rejoignez un groupe restreint d’une douzaine de participants pour travailler en profondeur sur vos problématiques réelles. Pas d’information descendante\, que du concret ! \nAccompagné par un animateur qui vous guide sur la journée\, vous co-construisez des solutions concrètes et adaptées à votre situation\, à l’aide d’un cahier d’exercices pensé pour passer rapidement à l’action. \nAu programme : \n\nRéseautage utileet intelligence collective\nRéflexion guidéeet remise en question constructive\nActions concrètespour avancer\nUne approche sur mesure\, engageante et collaborative\n\nChaque journée aborde une thématique clé de l’entrepreneuriat\, des sujets que vous nous faites souvent remonter et qui peuvent vous poser question : communication\, commercial ou pitch \n*Pour les porteurs de projet\, l’idée doit être à un stade avancé pour pouvoir participer \nInscription ➡️ https://forms.gle/yYBpVoVVMKfTEb568
URL:https://bge-berrytouraine.com/event/bootcamp-pimper-son-esprit-commercial-8/
LOCATION:BGE Berry Touraine antenne Touraine\, ZA des Granges Galand\, 18 rue de la Tuilerie\, Saint Avertin\, 37550\, France
END:VEVENT
BEGIN:VEVENT
DTSTART;TZID=Europe/Paris:20260723T090000
DTEND;TZID=Europe/Paris:20260723T170000
DTSTAMP:20260420T092149
CREATED:20260407T114552Z
LAST-MODIFIED:20260407T114552Z
UID:28371-1784797200-1784826000@bge-berrytouraine.com
SUMMARY:Bootcamp "Communiquer pour mieux régner"
DESCRIPTION:1 journée pour passer à l’action \nVous êtes entrepreneur ou porteur de projet* et vous faites face à un blocage qui freine votre activité ? Ça peut arriver\, et nous avons une solution pour vous aider à franchir vos obstacles \nLe Boot Camp est une journée immersive conçue pour vous aider à prendre du recul\, répondre à vos problématiques et surtout agir. \nDans un format intensif et interactif\, vous rejoignez un groupe restreint d’une douzaine de participants pour travailler en profondeur sur vos problématiques réelles. Pas d’information descendante\, que du concret ! \nAccompagné par un animateur qui vous guide sur la journée\, vous co-construisez des solutions concrètes et adaptées à votre situation\, à l’aide d’un cahier d’exercices pensé pour passer rapidement à l’action. \nAu programme : \n\nRéseautage utileet intelligence collective\nRéflexion guidéeet remise en question constructive\nActions concrètespour avancer\nUne approche sur mesure\, engageante et collaborative\n\nChaque journée aborde une thématique clé de l’entrepreneuriat\, des sujets que vous nous faites souvent remonter et qui peuvent vous poser question : communication\, commercial ou pitch \n*Pour les porteurs de projet\, l’idée doit être à un stade avancé pour pouvoir participer \nInscription ➡️ https://forms.gle/yYBpVoVVMKfTEb568
URL:https://bge-berrytouraine.com/event/bootcamp-communiquer-pour-mieux-regner-5/
END:VEVENT
BEGIN:VEVENT
DTSTART;TZID=Europe/Paris:20260922T100000
DTEND;TZID=Europe/Paris:20260922T120000
DTSTAMP:20260420T092149
CREATED:20260225T125604Z
LAST-MODIFIED:20260225T125604Z
UID:27609-1790071200-1790078400@bge-berrytouraine.com
SUMMARY:INPI - Formalités d’entreprise et propriété intellectuelle
DESCRIPTION:L’INPI Centre Val de Loire pour présentera le guichet unique et vous montrera comment bien protéger sa marque\, son logo ou encore son nom de domaine lors de ce temps. \n– 30 min explication Guichet Unique \n– 1H30 propriété intellectuelle \nMardi 22 septembre – 10H00/12H00 \nInscription : https://forms.gle/MoMUBrU2V4162u7M9
URL:https://bge-berrytouraine.com/event/inpi-formalites-dentreprise-et-propriete-intellectuelle-5/
LOCATION:Visio
END:VEVENT
BEGIN:VEVENT
DTSTART;TZID=Europe/Paris:20261203T100000
DTEND;TZID=Europe/Paris:20261203T120000
DTSTAMP:20260420T092149
CREATED:20260225T125759Z
LAST-MODIFIED:20260225T125759Z
UID:27611-1796292000-1796299200@bge-berrytouraine.com
SUMMARY:INPI - Formalités d’entreprise et propriété intellectuelle
DESCRIPTION:L’INPI Centre Val de Loire pour présentera le guichet unique et vous montrera comment bien protéger sa marque\, son logo ou encore son nom de domaine lors de ce temps. \n– 30 min explication Guichet Unique \n– 1H30 propriété intellectuelle \nJeudi 3 décembre – 10H00/12H00 \nInscription : https://forms.gle/MoMUBrU2V4162u7M9
URL:https://bge-berrytouraine.com/event/inpi-formalites-dentreprise-et-propriete-intellectuelle-6/
LOCATION:Visio
END:VEVENT
END:VCALENDAR